BEGIN:VCALENDAR
VERSION:2.0
PRODID:-//wp-events-plugin.com//7.2.3.1//EN
TZID:Europe/Berlin
X-WR-TIMEZONE:Europe/Berlin
BEGIN:VEVENT
UID:10@weiterbildung.ping.de
DTSTART;TZID=Europe/Berlin:20190703T183000
DTEND;TZID=Europe/Berlin:20190703T213000
DTSTAMP:20190611T062825Z
URL:https://weiterbildung.ping.de/events/sicher-unterwegs-im-internet-teil
 -2-2/
SUMMARY:Sicher unterwegs im Internet - Teil 2 / 2
DESCRIPTION:Kurzbeschreibung der Veranstaltung\nDie ist ist der zweite Teil
  der Veranstaltung "Sicher unterwegs im Internet".\n\nWir geben den Teilne
 hmern das nötige Wissen und Handwerkszeug\, um sich möglichst sicher im 
 Internet bewegen zu können.\n\nDa dieses Thema umfangreich ist\, wurde es
  auf zwei Veranstaltungen aufgeteilt.\nInhalte\n\n 	Sicherheit bei E-Mail\
 n 	Identitätsdiebstahl\n 	Verhalten bei Identitätsdiebstahl\n 	Sicherhei
 t im Webbrowser\n 	Online Banking\n\nNeben dem Theorie Teil\, hat die Vera
 nstaltung auch einen Praxis Teil\, wo die Teilnehmer das vermittelte Wisse
 n selbst in die Praxis umsetzen können. In der Veranstaltung und im Ansch
 luss besteht die Möglichkeit Fragen zu klären.\n\nIn dieser Veranstaltun
 g können Sie den Praxisteil an den vereinseigenen Notebooks durchführen.
 \n\nDa wir nur stark begrenzte Plätze zur Verfügung haben\, bitten wir u
 m eine verbindliche Anmeldung. Per E-Mail erhalten Sie eine Bestätigung f
 ür Ihre Anmeldung zur Veranstaltung.\nKosten der Veranstaltung\nDie Teiln
 ahme ist sowohl für PING-Mitglieder als auch für\nNicht-Mitglieder koste
 nlos.\nDie Veranstaltung wird durch die Beiträge der PING-Mitglieder\nfin
 anziert. Bitte unterstützen Sie unsere gemeinnützige Arbeit und\nwerden 
 Sie PING-Mitglied!\nWeitere Informationen zur PING-Mitgliedschaft finden S
 ie auf unserer\nVereinshomepage und geben wir Ihnen gerne auch am Veransta
 ltungstag vor Ort.\nWegbeschreibung und Parkmöglichkeiten\nWegbeschreibun
 g siehe bei Veranstaltungsort weiter oben.\n\nParkplätze für PKWs sind i
 n begrenzter Menge an unserem Vereinsheim\nvorhanden. Weitere Parkmöglich
 keiten gibt es entlang der Straße.\nAuch mit dem öffentlichen Personenn
 ahverkehr ist unser Vereinsheim gut\nzu erreichen (siehe Wegbeschreibung p
 er ÖPNV).
CATEGORIES:Grundlagen,Internet,Praxis
LOCATION:PING e.V. Büro\, Zum Nubbental 11\, Dortmund\, 44227\, Deutschlan
 d
X-APPLE-STRUCTURED-LOCATION;VALUE=URI;X-ADDRESS=Zum Nubbental 11\, Dortmund
 \, 44227\, Deutschland;X-APPLE-RADIUS=100;X-TITLE=PING e.V. Büro:geo:0,0
END:VEVENT
BEGIN:VTIMEZONE
TZID:Europe/Berlin
X-LIC-LOCATION:Europe/Berlin
BEGIN:DAYLIGHT
DTSTART:20190331T030000
TZOFFSETFROM:+0100
TZOFFSETTO:+0200
TZNAME:CEST
END:DAYLIGHT
END:VTIMEZONE
END:VCALENDAR