BEGIN:VCALENDAR
VERSION:2.0
PRODID:-//wp-events-plugin.com//7.2.3.1//EN
TZID:Europe/Berlin
X-WR-TIMEZONE:Europe/Berlin
BEGIN:VEVENT
UID:15@weiterbildung.ping.de
DTSTART;TZID=Europe/Berlin:20190807T183000
DTEND;TZID=Europe/Berlin:20190807T213000
DTSTAMP:20190717T134521Z
URL:https://weiterbildung.ping.de/events/heimvernetzung-internetzugaenge-u
 nd-tarife/
SUMMARY:Heimvernetzung\, Internetzugänge und Tarife
DESCRIPTION:Kurzbeschreibung der Veranstaltung\nDiese Veranstaltung vermitt
 elt die Grundlagen für eine moderne Heimvernetzung unter der Verwendung v
 on drahtlosen und drahtgebundenen Komponenten. Abgerundet wird die Veranst
 altung durch die Wahl eines passenden Internetanschlusses für die eigenen
  Bedürfnisse\nInhalte\n\n 	Technische Grundausstattung für eine gute Hei
 mvernetzung\n\n 	Router\n 	Accesspoint\n 	Repeater\n\n\n 	Wie optimiere ic
 h mein WLAN?\n 	Technologien: Analog / ISDN / Voice over IP (All-IP)\n 	Wi
 e schnell muss mein Internetzugang sein?\n 	Internetzugänge und Tarife\n 
 	Internet über Mobilfunk\n\nIn der Veranstaltung und im Anschluss besteht
  die Möglichkeit Fragen zu klären.\n\nDa wir nur stark begrenzte Plätze
  zur Verfügung haben\, bitten wir um eine verbindliche Anmeldung. Per E-M
 ail erhalten Sie eine Bestätigung für Ihre Anmeldung zur Veranstaltung.\
 n\n&nbsp\;\nKosten der Veranstaltung\nDie Teilnahme ist sowohl für PING-M
 itglieder als auch für\nNicht-Mitglieder kostenlos.\nDie Veranstaltung wi
 rd durch die Beiträge der PING-Mitglieder\nfinanziert. Bitte unterstütze
 n Sie unsere gemeinnützige Arbeit und\nwerden Sie PING-Mitglied!\nWeitere
  Informationen zur PING-Mitgliedschaft finden Sie auf unserer\nVereinshome
 page und geben wir Ihnen gerne auch am Veranstaltungstag vor Ort.\nWegbesc
 hreibung und Parkmöglichkeiten\nWegbeschreibung siehe bei Veranstaltungso
 rt weiter oben.\n\nParkplätze für PKWs sind in begrenzter Menge an unser
 em Vereinsheim\nvorhanden. Weitere Parkmöglichkeiten gibt es entlang der
  Straße.\nAuch mit dem öffentlichen Personennahverkehr ist unser Vereins
 heim gut\nzu erreichen (siehe Wegbeschreibung per ÖPNV).
CATEGORIES:Grundlagen,Internet,Praxis
LOCATION:PING e.V. Büro\, Zum Nubbental 11\, Dortmund\, 44227\, Deutschlan
 d
X-APPLE-STRUCTURED-LOCATION;VALUE=URI;X-ADDRESS=Zum Nubbental 11\, Dortmund
 \, 44227\, Deutschland;X-APPLE-RADIUS=100;X-TITLE=PING e.V. Büro:geo:0,0
END:VEVENT
BEGIN:VTIMEZONE
TZID:Europe/Berlin
X-LIC-LOCATION:Europe/Berlin
BEGIN:DAYLIGHT
DTSTART:20190331T030000
TZOFFSETFROM:+0100
TZOFFSETTO:+0200
TZNAME:CEST
END:DAYLIGHT
END:VTIMEZONE
END:VCALENDAR