BEGIN:VCALENDAR
VERSION:2.0
PRODID:-//wp-events-plugin.com//7.2.3.1//EN
TZID:Europe/Berlin
X-WR-TIMEZONE:Europe/Berlin
BEGIN:VEVENT
UID:3@weiterbildung.ping.de
DTSTART;TZID=Europe/Berlin:20190129T180000
DTEND;TZID=Europe/Berlin:20190129T210000
DTSTAMP:20190129T184849Z
URL:https://weiterbildung.ping.de/events/funktionelles-programmieren/
SUMMARY:Funktionelles Programmieren
DESCRIPTION:\n\n Hack ‘n’ Snack ist ein regelmäßiges Event\, dass wir
  gemeinsam mit der FOSS-AG Dortmund veranstalten. Es richtet sich an  all
 e Technikinteressierte und die\, die es noch werden wollen. Ziel ist es be
 i gemütlichem Ambiente den Austausch zu technischen Themen wie Programmie
 rung\, Hardware und Sicherheit zu fördern und einen Ort zu bieten\, an de
 m man in lockerer Gesellschaft an eigenen Projekten arbeiten kann.\n\n&nbs
 p\;\n\nIm Januar beschäftigen wir uns beim Hack’n’Snack mit funktiona
 ler Programmierung.\n\nGemeinsam schauen wir uns als Workshop die Grundlag
 en am Beispiel von Haskell an. Wir fangen ganz am Anfang an — Vorwissen 
 in (funktionaler) Programmierung ist also nicht nötig.\n\nFunktionale Pro
 grammierung ist ein ganz anderes Konzept als das der üblichen Sprachen wi
 e Java und C. Es lohnt sich\, über den Tellerrand zu schauen und sich mit
  funktionalen Konzepten auseinanderzusetzen. Nicht umsonst werden diese im
 mer öfter auch in nicht-funktionale Sprachen eingebaut!\n\nVorbereiten k
 önnt ihr euch\, in dem ihr die Haskell Platform auf eurem Computer instal
 liert.\nEine Anmeldung ist nicht erforderlich
CATEGORIES:Hack and Snack,Programmieren
LOCATION:PING e.V. Büro\, Zum Nubbental 11\, Dortmund\, 44227\, Deutschlan
 d
X-APPLE-STRUCTURED-LOCATION;VALUE=URI;X-ADDRESS=Zum Nubbental 11\, Dortmund
 \, 44227\, Deutschland;X-APPLE-RADIUS=100;X-TITLE=PING e.V. Büro:geo:0,0
END:VEVENT
BEGIN:VTIMEZONE
TZID:Europe/Berlin
X-LIC-LOCATION:Europe/Berlin
BEGIN:STANDARD
DTSTART:20181028T020000
TZOFFSETFROM:+0200
TZOFFSETTO:+0100
TZNAME:CET
END:STANDARD
END:VTIMEZONE
END:VCALENDAR